BEGIN:VCALENDAR
VERSION:2.0
PRODID:-//ANADIS Diabetes Sevilla - ECPv6.15.20//NONSGML v1.0//EN
CALSCALE:GREGORIAN
METHOD:PUBLISH
X-WR-CALNAME:ANADIS Diabetes Sevilla
X-ORIGINAL-URL:https://anadisevilla.org
X-WR-CALDESC:Eventos para ANADIS Diabetes Sevilla
REFRESH-INTERVAL;VALUE=DURATION:PT1H
X-Robots-Tag:noindex
X-PUBLISHED-TTL:PT1H
BEGIN:VTIMEZONE
TZID:UTC
BEGIN:STANDARD
TZOFFSETFROM:+0000
TZOFFSETTO:+0000
TZNAME:UTC
DTSTART:20230101T000000
END:STANDARD
END:VTIMEZONE
BEGIN:VEVENT
DTSTART;TZID=UTC:20241212T180000
DTEND;TZID=UTC:20241212T200000
DTSTAMP:20260424T171853
CREATED:20241126T102011Z
LAST-MODIFIED:20241126T105521Z
UID:4806-1734026400-1734033600@anadisevilla.org
SUMMARY:'Mitos en alimentación y diabetes infantil. Tips para comidas fuera de casa'
DESCRIPTION:El próximo jueves 12 de diciembre\, la sede de ANADIS acogerá una charla-taller sobre nutrición\, haciendo hincapié en los falsos mitos que existen entre la alimentación y las personas con diabetes. Además se recomendarán diferentes tips para comer fuera de casa. \n\n\n\nSerá impartido por Marta Cuberos\, dietista-nutricionista. \n\n\n\nPara acudir al taller es imprescindible inscribirse en el formulario\, una vez realizada la inscripción se compromete a asistir\, en caso de no hacerlo deberá informarlo previamente para que otra persona ocupe su lugar. En caso de no asistir sin previo aviso se tendrá en cuenta para actividades futuras. \n\n\n\nInscripciones (Disponibles hasta el 11/12/24 a las 23:59h o hasta completar aforo)
URL:https://anadisevilla.org/evento/121224/
LOCATION:Sede ANADIS\, C/ Bergantín 2\, local B\, Sevilla\, 41012\, Spain
ATTACH;FMTTYPE=image/png:https://anadisevilla.org/wp-content/uploads/2024/10/favicon.png
END:VEVENT
BEGIN:VEVENT
DTSTART;TZID=UTC:20241128T100000
DTEND;TZID=UTC:20241128T140000
DTSTAMP:20260424T171853
CREATED:20241127T120425Z
LAST-MODIFIED:20241127T120426Z
UID:4822-1732788000-1732802400@anadisevilla.org
SUMMARY:Carpa multidisciplinar sobre diabetes
DESCRIPTION:El Ayuntamiento de Sevilla organiza una carpa multidisciplinar sobre diabetes para conmemorar el Día Mundial de la Diabetes\, que por cuestión atmosférica no se pudo celebrar. Esta jornada se llevará a cabo en colaboración ANADIS y participarán diferentes colegios profesionales; Colegio de Enfermería de Sevilla\, Colegio de Farmacéuticos de Sevilla\, Colegio Profesional de Fisioterapeutas de Andalucía\, Colegio Profesional de Podólogos de Andalucía\, Colegio de Ópticos-Optometristas de Andalucía\, Colegio de Médicos de Sevilla\, TEVA\, Quirón Salud y Merca Sevilla. \n\n\n\nEn la carpa se realizarán diferentes pruebas de chequeo médico sobre diabetes para personas con y sin diabetes. \n\n\n\nEl lugar será en el Apeadero de San Bernardo\, junto a las estaciones de Metro\, Tranvía\, Tussam y Renfe.
URL:https://anadisevilla.org/evento/281124/
LOCATION:Apeadero de San Bernardo\, Apeadero de San Bernardo\, Sevilla\, Sevilla\, 41004\, Spain
ORGANIZER;CN="Ayuntamiento de Sevilla":MAILTO:010Lineasevilla@sevilla.org
END:VEVENT
BEGIN:VEVENT
DTSTART;TZID=UTC:20241114T110000
DTEND;TZID=UTC:20241114T120000
DTSTAMP:20260424T171853
CREATED:20241113T143821Z
LAST-MODIFIED:20241113T143956Z
UID:4792-1731582000-1731585600@anadisevilla.org
SUMMARY:Lectura del manifiesto del Día Mundial de la Diabetes
DESCRIPTION:Acto institucional y lectura del manifiesto por el Día Mundial de la Diabetes\, será en el patio del Ayuntamiento de Sevilla. \n\n\n\nAl acto irá el Alcalde de Sevilla\, José Luis Sanz; la Delegada de Promoción de la Salud\, Silvia Pozo y la Presidenta de ANADIS\, Soledad Campos.
URL:https://anadisevilla.org/evento/141124/
LOCATION:Sevilla
ORGANIZER;CN="ANADIS":MAILTO:info@anadisevilla.org
END:VEVENT
BEGIN:VEVENT
DTSTART;TZID=UTC:20241017T180000
DTEND;TZID=UTC:20241017T200000
DTSTAMP:20260424T171853
CREATED:20241015T102317Z
LAST-MODIFIED:20241016T145808Z
UID:97-1729188000-1729195200@anadisevilla.org
SUMMARY:Taller ‘Gestiona tus miedos. Transforma los tuyos y los de tus hijos frente a la diabetes’
DESCRIPTION:El próximo jueves 17 de octubre\, la sede de ANADIS acogerá la primera charla-taller del nuevo curso. En esta ocasión será destinada para padres y madres con hijos con diabetes para tratar los miedos y las emociones que se pueden llegar a tener frente a la diabetes. \n\n\n\nLa charla estará impartida por el coach emocional Miguel Tirado\, a las 18:00h en la sede. \n\n\n\nSobre Miguel \n\n\n\nEs especialista en trabajos de mejora de la mente y las emociones. Licenciado en Medicina Tradicional China en Pekín en colaboración con el convenio Europeo Hispano-Luso. \n\n\n\nInscripciones \n\n\n\nPara acudir al taller es imprescindible inscribirse en el formulario.
URL:https://anadisevilla.org/evento/171024/
LOCATION:Sede ANADIS\, C/ Bergantín 2\, local B\, Sevilla\, 41012\, Spain
ORGANIZER;CN="ANADIS":MAILTO:info@anadisevilla.org
END:VEVENT
END:VCALENDAR